BEGIN:VCALENDAR
VERSION:2.0
PRODID:-//Стопанска камара Добрич - ECPv6.15.20//NONSGML v1.0//EN
CALSCALE:GREGORIAN
METHOD:PUBLISH
X-ORIGINAL-URL:https://dobrich.bia-bg.com
X-WR-CALDESC:Събития за Стопанска камара Добрич
REFRESH-INTERVAL;VALUE=DURATION:PT1H
X-Robots-Tag:noindex
X-PUBLISHED-TTL:PT1H
BEGIN:VTIMEZONE
TZID:Europe/Sofia
BEGIN:DAYLIGHT
TZOFFSETFROM:+0200
TZOFFSETTO:+0300
TZNAME:EEST
DTSTART:20200329T010000
END:DAYLIGHT
BEGIN:STANDARD
TZOFFSETFROM:+0300
TZOFFSETTO:+0200
TZNAME:EET
DTSTART:20201025T010000
END:STANDARD
BEGIN:DAYLIGHT
TZOFFSETFROM:+0200
TZOFFSETTO:+0300
TZNAME:EEST
DTSTART:20210328T010000
END:DAYLIGHT
BEGIN:STANDARD
TZOFFSETFROM:+0300
TZOFFSETTO:+0200
TZNAME:EET
DTSTART:20211031T010000
END:STANDARD
BEGIN:DAYLIGHT
TZOFFSETFROM:+0200
TZOFFSETTO:+0300
TZNAME:EEST
DTSTART:20220327T010000
END:DAYLIGHT
BEGIN:STANDARD
TZOFFSETFROM:+0300
TZOFFSETTO:+0200
TZNAME:EET
DTSTART:20221030T010000
END:STANDARD
END:VTIMEZONE
BEGIN:VEVENT
DTSTART;TZID=Europe/Sofia:20210308T103000
DTEND;TZID=Europe/Sofia:20210308T140000
DTSTAMP:20260419T182024
CREATED:20251120T133233Z
LAST-MODIFIED:20251120T135938Z
UID:2697-1615199400-1615212000@dobrich.bia-bg.com
SUMMARY:Онлайн среща „Наука и бизнес“ представя научни разработки за въвеждане в производството
DESCRIPTION:Изпълнителната агенция за насърчаване на малките и средните предприятия (ИАНМСП) организира бизнес събитие – „Наука за бизнес“\, организирано съвместно с Българската академия на науките (БАН)\, което се завръща изцяло онлайн след отлагането му през 2020 г. поради пандемията COVID-19. \nСъбитието ще се проведе на 18 март (четвъртък)\, от 10.30 часа и ще покаже най-интересните разработки на Академията\, готови да се превърнат в успешен бизнес. \nФорумът цели да покаже на българските бизнес среди\, че БАН произвежда множество продукти и технологии\, готови да излязат на пазара или да бъдат внедрени в производството за оптимизация на процесите в предприятията. \nОсновна мисия на „Наука за бизнес“ е да подпомогне изграждането на устойчива институционална среда за сътрудничество и взаимодействие между българската наука и бизнеса и ще събере на едно място във виртуалното пространство представители на институтите\, лабораториите и Единния център за иновации на БАН и десетки български предприемачи\, собственици на компании и иновационни ентусиасти. \nВ рамките на форума ще бъдат представени съвместни проекти между БАН и българските предприятия\, успели да се наложат на пазара\, както и научно-приложните продукти и технологии на изследователи от Академията\, по които се работи в момента. \nС редица презентации събитието ще покаже най-интересните проекти на Академията за оптимизация на индустриалните задачи\, 3D цифровизация\, енергийна ефективност\, водородни технологии\, екология\, електро- и топлопроизводство\, съхранение на енергия\, медицина\, вирусология\, фармацевтична промишленост\, лозарство\, винарство и много други. \nУчастниците в  „Наука за бизнес“ ще могат да разберат повече за най-новите изделия\, създадени в научните институти на БАН\, както и да установят контакт с представители на Академията и ИАНМСП в сесията за въпроси и отговори Q&A. Събитието се организира с подкрепата на Enterprise Europe Network –  България. \nУчастието в събитието е безплатно и достъпно чрез бърза регистрация  тук \nЗа допълнителни въпроси може да се обръщате към г-жа Ася Андреева – Дирекция „Интернационализация на МСП“ в ИАНМСП на тел. 02 940 79 89 или е-поща: a.andreeva@sme.government.bg
URL:https://dobrich.bia-bg.com/event/%d0%be%d0%bd%d0%bb%d0%b0%d0%b9%d0%bd-%d1%81%d1%80%d0%b5%d1%89%d0%b0-%d0%bd%d0%b0%d1%83%d0%ba%d0%b0-%d0%b8-%d0%b1%d0%b8%d0%b7%d0%bd%d0%b5%d1%81-%d0%bf%d1%80%d0%b5%d0%b4%d1%81%d1%82/
CATEGORIES:Заседания и срещи
ATTACH;FMTTYPE=image/jpeg:https://dobrich.bia-bg.com/wp-content/uploads/2021/03/2021-03-18.jpg
END:VEVENT
END:VCALENDAR