BEGIN:VCALENDAR
VERSION:2.0
PRODID:-//Стопанска камара Добрич - ECPv6.15.20//NONSGML v1.0//EN
CALSCALE:GREGORIAN
METHOD:PUBLISH
X-WR-CALNAME:Стопанска камара Добрич
X-ORIGINAL-URL:https://dobrich.bia-bg.com
X-WR-CALDESC:Събития за Стопанска камара Добрич
REFRESH-INTERVAL;VALUE=DURATION:PT1H
X-Robots-Tag:noindex
X-PUBLISHED-TTL:PT1H
BEGIN:VTIMEZONE
TZID:Europe/Sofia
BEGIN:DAYLIGHT
TZOFFSETFROM:+0200
TZOFFSETTO:+0300
TZNAME:EEST
DTSTART:20180325T010000
END:DAYLIGHT
BEGIN:STANDARD
TZOFFSETFROM:+0300
TZOFFSETTO:+0200
TZNAME:EET
DTSTART:20181028T010000
END:STANDARD
BEGIN:DAYLIGHT
TZOFFSETFROM:+0200
TZOFFSETTO:+0300
TZNAME:EEST
DTSTART:20190331T010000
END:DAYLIGHT
BEGIN:STANDARD
TZOFFSETFROM:+0300
TZOFFSETTO:+0200
TZNAME:EET
DTSTART:20191027T010000
END:STANDARD
BEGIN:DAYLIGHT
TZOFFSETFROM:+0200
TZOFFSETTO:+0300
TZNAME:EEST
DTSTART:20200329T010000
END:DAYLIGHT
BEGIN:STANDARD
TZOFFSETFROM:+0300
TZOFFSETTO:+0200
TZNAME:EET
DTSTART:20201025T010000
END:STANDARD
END:VTIMEZONE
BEGIN:VEVENT
DTSTART;TZID=Europe/Sofia:20190716T093000
DTEND;TZID=Europe/Sofia:20190716T123000
DTSTAMP:20260421T164423
CREATED:20251120T134157Z
LAST-MODIFIED:20251120T154815Z
UID:2719-1563269400-1563280200@dobrich.bia-bg.com
SUMMARY:Семинар\, посветен на Стратегията за корпоративна социална отговорност и Закона за предприятията на социалната и солидарна икономика
DESCRIPTION:На 16 юли 2019 г.\, в Добрич\, ще се проведе семинар\, посветен на новите моменти в Стратегията за корпоративна социална отговорност\, Закона за предприятията на социалната и солидарна икономика и представяне на марката „Продукт на социално предприятие“\, която ще се предоставя за безвъзмездно ползване от социалните предприятия\, вписани в Регистъра на социалните предприятия. Марката ще служи за обозначаване на техните стоки или услуги\, с цел подобряване на конкурентоспособността на предприятията\, за да участват пълноценно в рамките на единния европейски пазар и да генерират икономическа и социална добавена стойност.. \nСъбитието се организира в изпълнение на Оперативния план на Министерството на труда и социалната политика (МТСП) за 2019 г. и Управленската програма на правителството на Р България (2017-2021 г.)\, дирекция „Жизнено равнище\, демографска политика и социални инвестиции“ (ЖРДПСИ) на МТСП\, съвместно с Центъра за развитие на човешките ресурси и регионални инициативи (ЦРЧРРИ). \nЗа участие в семинара са поканени представители на централната и местната власти\, социалните партньори (синдикати и работодателски организации)\, социални предприятия\, граждани и други заинтересовани страни\, а целта е да бъдат дискутирани перспективите в областта на социалната икономика. БСК ще бъде представена от Николай Радев\, председател на Стопанска камара Добрич. \nВж. ПРОГРАМА \nЗа допълнителна информация: Божидара Василева\, младши експерт в ЦРЧРРИ\, тел. 0882 82 66 85\, email: bojidara_vasileva@chrdri.net. \nЗаявки за участие се приемат до 5 юли 2019 г.
URL:https://dobrich.bia-bg.com/event/%d1%81%d0%b5%d0%bc%d0%b8%d0%bd%d0%b0%d1%80-%d0%bf%d0%be%d1%81%d0%b2%d0%b5%d1%82%d0%b5%d0%bd-%d0%bd%d0%b0-%d1%81%d1%82%d1%80%d0%b0%d1%82%d0%b5%d0%b3%d0%b8%d1%8f%d1%82%d0%b0-%d0%b7%d0%b0-%d0%ba%d0%be/
LOCATION:Община град Добрич\, бул. България 12\, Добрич\, Bulgaria
CATEGORIES:Обучения
ATTACH;FMTTYPE=image/jpeg:https://dobrich.bia-bg.com/wp-content/uploads/2019/07/csr1.jpg
END:VEVENT
END:VCALENDAR