BEGIN:VCALENDAR
VERSION:2.0
PRODID:-//Стопанска камара Добрич - ECPv6.15.20//NONSGML v1.0//EN
CALSCALE:GREGORIAN
METHOD:PUBLISH
X-WR-CALNAME:Стопанска камара Добрич
X-ORIGINAL-URL:https://dobrich.bia-bg.com
X-WR-CALDESC:Събития за Стопанска камара Добрич
REFRESH-INTERVAL;VALUE=DURATION:PT1H
X-Robots-Tag:noindex
X-PUBLISHED-TTL:PT1H
BEGIN:VTIMEZONE
TZID:Europe/Sofia
BEGIN:DAYLIGHT
TZOFFSETFROM:+0200
TZOFFSETTO:+0300
TZNAME:EEST
DTSTART:20180325T010000
END:DAYLIGHT
BEGIN:STANDARD
TZOFFSETFROM:+0300
TZOFFSETTO:+0200
TZNAME:EET
DTSTART:20181028T010000
END:STANDARD
BEGIN:DAYLIGHT
TZOFFSETFROM:+0200
TZOFFSETTO:+0300
TZNAME:EEST
DTSTART:20190331T010000
END:DAYLIGHT
BEGIN:STANDARD
TZOFFSETFROM:+0300
TZOFFSETTO:+0200
TZNAME:EET
DTSTART:20191027T010000
END:STANDARD
BEGIN:DAYLIGHT
TZOFFSETFROM:+0200
TZOFFSETTO:+0300
TZNAME:EEST
DTSTART:20200329T010000
END:DAYLIGHT
BEGIN:STANDARD
TZOFFSETFROM:+0300
TZOFFSETTO:+0200
TZNAME:EET
DTSTART:20201025T010000
END:STANDARD
END:VTIMEZONE
BEGIN:VEVENT
DTSTART;TZID=Europe/Sofia:20190626T100000
DTEND;TZID=Europe/Sofia:20190626T123000
DTSTAMP:20260421T164423
CREATED:20251120T134247Z
LAST-MODIFIED:20251120T140022Z
UID:2721-1561543200-1561552200@dobrich.bia-bg.com
SUMMARY:Регионален съвет за развитие в Североизточен район
DESCRIPTION:Съвместно заседание на Регионалния съвет за развитие (РСР) и на Регионалния координационен комитет към РСР в Североизточен район (СИР) ще се проведе на 26 юни 2019 г.\, от 10.00 часа\, в зала 1 на Икономически университет – гр. Варна (бул. Княз Борис I №77). \nВ заседанието ще участва и председателят на Стопанска камара Добрич Николай Радев. \nЗаседанието ще протече при следния дневен ред: \n\n\n\n10.00-10.30 ч.\nРегистрация на участниците и гостите в заседанието на РСР и РКК в СИР\n\n\n10.30-10.40 ч.\n1. Откриване на заседанието и приемане на дневен ред.\nДокладва председателят на РСР и РКК в СИР Стоян Пасев\, областен управител на Област Варна\n\n\n10.40-10.50 ч.\n2. Приемане на информация за изпълнението на решенията на заседанието на РСР в СИР\, проведено на 04.04.2019 г.\, в гр. Варна.\nДокладва председателят на РСР и РКК в СИР Стоян Пасев\, областен управител на Област Варна\n\n\n10.50-11.10 ч.\n3. Представяне на Годишен доклад за 2018 г.\, относно наблюдението и изпълнението на регионалния план за развитие на СИР 2014-2020 г.\nДокладват представители на отдел СИР\, ГДСППРР\, МРРБ\n\n\n11.10-11.30 ч.\n4. Представяне на Социално-икономически анализ на районите в РБ с основна цел да послужи като основна база в процеса на планиране и програмиране на следващия програмен период 2021-2027 г. в областта на регионалното развитие.\nДокладва представител на Национален център за териториално развитие ЕАД\n\n\n11.30-11.50 ч.\n5. Представяне на информация за изпълнението на Оперативните програми в СИР и възможности за кандидатстване по процедури по ОП 2014-2020 г.\nДокладват представители на различните ОП\n\n\n11.50-12.00 ч.\n6. Други въпроси\n\n\n12.00-12.10 ч.\n7. Предаване на председателството на РСР и РКК в СИР за периода 01.07.2019 г. – 31.12.2019 г. на Областния управител на Област Търговище\n\n\n12.10-12.20 ч.\n8. Приемане на съобщение до средствата за масово осведомяване за осигуряване на публичност на приетите от РСР в СИР Решения.\nДокладва председателят на РСР и РКК в СИР Стоян Пасев – областен управител на Област Варна\n\n\n12.20-12.30 ч.\nЗакриване на съвместното заседание на РСР и РКК в СИР
URL:https://dobrich.bia-bg.com/event/%d1%80%d0%b5%d0%b3%d0%b8%d0%be%d0%bd%d0%b0%d0%bb%d0%b5%d0%bd-%d1%81%d1%8a%d0%b2%d0%b5%d1%82-%d0%b7%d0%b0-%d1%80%d0%b0%d0%b7%d0%b2%d0%b8%d1%82%d0%b8%d0%b5-%d0%b2-%d1%81%d0%b5%d0%b2%d0%b5%d1%80%d0%be/
CATEGORIES:Заседания и срещи
ATTACH;FMTTYPE=image/jpeg:https://dobrich.bia-bg.com/wp-content/uploads/2019/06/Североизточен.jpg
END:VEVENT
END:VCALENDAR