BEGIN:VCALENDAR
VERSION:2.0
PRODID:-//Стопанска камара Добрич - ECPv6.15.20//NONSGML v1.0//EN
CALSCALE:GREGORIAN
METHOD:PUBLISH
X-ORIGINAL-URL:https://dobrich.bia-bg.com
X-WR-CALDESC:Събития за Стопанска камара Добрич
REFRESH-INTERVAL;VALUE=DURATION:PT1H
X-Robots-Tag:noindex
X-PUBLISHED-TTL:PT1H
BEGIN:VTIMEZONE
TZID:Europe/Sofia
BEGIN:DAYLIGHT
TZOFFSETFROM:+0200
TZOFFSETTO:+0300
TZNAME:EEST
DTSTART:20190331T010000
END:DAYLIGHT
BEGIN:STANDARD
TZOFFSETFROM:+0300
TZOFFSETTO:+0200
TZNAME:EET
DTSTART:20191027T010000
END:STANDARD
BEGIN:DAYLIGHT
TZOFFSETFROM:+0200
TZOFFSETTO:+0300
TZNAME:EEST
DTSTART:20200329T010000
END:DAYLIGHT
BEGIN:STANDARD
TZOFFSETFROM:+0300
TZOFFSETTO:+0200
TZNAME:EET
DTSTART:20201025T010000
END:STANDARD
BEGIN:DAYLIGHT
TZOFFSETFROM:+0200
TZOFFSETTO:+0300
TZNAME:EEST
DTSTART:20210328T010000
END:DAYLIGHT
BEGIN:STANDARD
TZOFFSETFROM:+0300
TZOFFSETTO:+0200
TZNAME:EET
DTSTART:20211031T010000
END:STANDARD
END:VTIMEZONE
BEGIN:VEVENT
DTSTART;TZID=Europe/Sofia:20201009T093000
DTEND;TZID=Europe/Sofia:20201009T163000
DTSTAMP:20260420T030441
CREATED:20251120T133313Z
LAST-MODIFIED:20251120T154505Z
UID:2699-1602235800-1602261000@dobrich.bia-bg.com
SUMMARY:Обучение по ЗБУТ в Добрич
DESCRIPTION:Стопанска камара Добрич организира целодневно обучение по програмата за осигуряване на здравословни и безопасни условия на труд (ЗБУТ) и оценка на риска на работното място  съгласно действащото в Република България законодателство. Обучението е финансирано от Фонд „Условия на труд”. Успешно преминалите обучението получават Удостоверение за завършено обучение по наредба РД-07-2/16.12.2009 г. на МТСП.  \nОбучението ще се проведе на 9 октомври 2020 г.\, петък\, от 9.00 до 16.30 часа\, в Хотел „България“ – гр. Добрич\, пл. Свобода 8\, и е безплатно за фирмите\, но с предварителна регистрация. \nЗаявки се приемат до 08.10.2020 г. или до запълване на местата в залата. \nвж. РЕГИСТРАЦИОНЕН ФОРМУЛЯР \nЗа контакт: Николай Радев\, email: dobrich@bia-bg.com \n\nПРОГРАМА НА ОБУЧЕНИЕТО \nМодул 1: Международно\, европейско и национално законодателство по безопасността и здраве при работа \n\nЦели и приоритети на Стратегиите по безопасност и здраве при работа на Международната организация на труда\, Европейския съюз и Република България.\nНационална програма по безопасност и здраве при работа.\nОсновни нормативни актове на МОТ и ЕС регламентиращи осигуряването на безопасност и здраве при работа.\nДържавна политика\, нормативна уредба\, основни принципи и организация на дейностите по безопасност и здраве при работа.\n\nМодул 2: Политика на предприятието и привеждането му в съответствие с нормативните разпоредби за осигуряване на безопасност и здраве при работа (БЗР) \n\nОценяване на рисковете за безопасността и здравето на работещите.\nОт оценяване на риска към управление на здравето и безопасността при работа.\nОсновните принципи в БДС ISO 45001:2018 „Системи за управление на здравето и безопасността при работа. Изисквания с указания за прилагане”.\nЦели\, задачи и съдържание на политиката на предприятието за осигуряване на безопасност и здраве при работа.\nПрава и задължения на участниците в трудовия процес за осигуряване на БЗР:\n\n\nРаботодател;\nРаботещи;\nОрган/Служба по безопасност и здраве при работа;\nСлужба по трудова медицина;\nКомитети и групи по условия на труд.\n\nМодул 3: Процедури и дейности по осигуряване на безопасност и здраве при работа \n\nПериодично обучение и инструктаж на работниците и служителите по правилата за осигуряване на здравословни и безопасни условия на труд\nТрудови злополуки\, професионални болести и свързани с труда заболявания;\nСпециална закрила на някои категории работници и служители;\nСтрес на работното място и психосоциални рискове;\nБезопасност при използване на опасни химически вещества и смеси;\nПоддържане на работното място в безопасно състояние;\nТеми\, поискани от работодателите.\n\nМодул 4: Примерни документи на предприятието. Добри практики\, анкети и тестове
URL:https://dobrich.bia-bg.com/event/%d0%be%d0%b1%d1%83%d1%87%d0%b5%d0%bd%d0%b8%d0%b5-%d0%bf%d0%be-%d0%b7%d0%b1%d1%83%d1%82-%d0%b2-%d0%b4%d0%be%d0%b1%d1%80%d0%b8%d1%87-6/
LOCATION:БИЗНЕС ЦЕНТЪР 101\, ул. Даме Груев 17\, Добрич\, Bulgaria
CATEGORIES:Обучения
ATTACH;FMTTYPE=image/jpeg:https://dobrich.bia-bg.com/wp-content/uploads/2025/09/ZBUT-6a.jpg
END:VEVENT
BEGIN:VEVENT
DTSTART;VALUE=DATE:20201016
DTEND;VALUE=DATE:20201017
DTSTAMP:20260420T030441
CREATED:20251120T133350Z
LAST-MODIFIED:20251120T135620Z
UID:2701-1602806400-1602892799@dobrich.bia-bg.com
SUMMARY:Проучване за работодателските потребности от кадри. Срок: 16.10.2020 г.!
DESCRIPTION:Агенцията по заетостта отново стартира проучване сред работодателите в България за техните потребности от работна сила. Втората за годината анкета ще се проведе в периода 1 септември – 16 октомври 2020 г. включително и ще продължи проследяването на тенденциите за това от какви професии и умения на работната сила се нуждае бизнесът в краткосрочен и средносрочен план. В отговор на създалата се ситуация\, свързана с COVID-19\, работодателите ще могат да споделят и очакванията си за влиянието\, което COVID-кризата може да окаже върху евентуалното освобождаване или наемане на нов персонал. \nПроучването на Агенцията по заетостта стартира за първи път през 2018 г. и се провежда два пъти в годината на основание чл. 10 от Закона за насърчаване на заетостта\, съвместно с Комисиите по заетост към Областните съвети за развитие в 28-те области в страната. \nАнкетирането и този път ще обхване първоначално работодатели от формирана национално представителна извадка\, представяща всички сектори на икономиката\, различни по статут и големина предприятия с териториално разпределение във всички области в страната. На разположение на работодателите е актуализиран онлайн анкетен формуляр\, в който те могат да посочат от какви специалисти със средно и висше образование ще имат нужда през следващите 12 месеца и след по-дълъг период – от 3 до 5 години. Те отново ще могат да очертаят и най-необходимите компетентности и умения\, които трябва да притежава търсеният от тях персонал. \nЗа работодатели\, които не попадат в статистическата извадка\, но имат желание да участват в проучването\, ще бъде изготвен отделен електронен формуляр с аналогични въпроси\, който ще бъде достъпен в периода 28 септември – 16 октомври 2020 г. на електронната страница на Агенцията по заетостта в рубрика „Проучване на потребностите от работна сила”. \nКакто досега\, получените резултати за нуждите на работодателите от персонал през следващите 12 месеца ще бъдат използвани при подготовката на краткосрочните мерки и програми за организиране и провеждане на подходящи обучения за професионални и ключови умения с цел ориентация съобразно изискванията на работодателите. Посочените от работодателите очаквания за необходимите им специалисти с висше и средно образование след 3 до 5 години пък ще се използват при определяне на приоритетите на областната и националната политика в сферата на образованието\, обучението и насърчаване на заетостта. \nАгенцията по заетостта отново разчита на активното включване на работодателите и предоставената от тях реална и конкретна информация за обхвата\, професиите\, компетенциите и уменията на търсените от тях кадри.
URL:https://dobrich.bia-bg.com/event/%d0%bf%d1%80%d0%be%d1%83%d1%87%d0%b2%d0%b0%d0%bd%d0%b5-%d0%b7%d0%b0-%d1%80%d0%b0%d0%b1%d0%be%d1%82%d0%be%d0%b4%d0%b0%d1%82%d0%b5%d0%bb%d1%81%d0%ba%d0%b8%d1%82%d0%b5-%d0%bf%d0%be%d1%82%d1%80%d0%b5/
CATEGORIES:Срокове
ATTACH;FMTTYPE=image/jpeg:https://dobrich.bia-bg.com/wp-content/uploads/2020/07/item_az.jpg
END:VEVENT
END:VCALENDAR