BEGIN:VCALENDAR
VERSION:2.0
PRODID:-//Стопанска камара Добрич - ECPv6.15.20//NONSGML v1.0//EN
CALSCALE:GREGORIAN
METHOD:PUBLISH
X-ORIGINAL-URL:https://dobrich.bia-bg.com
X-WR-CALDESC:Събития за Стопанска камара Добрич
REFRESH-INTERVAL;VALUE=DURATION:PT1H
X-Robots-Tag:noindex
X-PUBLISHED-TTL:PT1H
BEGIN:VTIMEZONE
TZID:Europe/Sofia
BEGIN:DAYLIGHT
TZOFFSETFROM:+0200
TZOFFSETTO:+0300
TZNAME:EEST
DTSTART:20190331T010000
END:DAYLIGHT
BEGIN:STANDARD
TZOFFSETFROM:+0300
TZOFFSETTO:+0200
TZNAME:EET
DTSTART:20191027T010000
END:STANDARD
BEGIN:DAYLIGHT
TZOFFSETFROM:+0200
TZOFFSETTO:+0300
TZNAME:EEST
DTSTART:20200329T010000
END:DAYLIGHT
BEGIN:STANDARD
TZOFFSETFROM:+0300
TZOFFSETTO:+0200
TZNAME:EET
DTSTART:20201025T010000
END:STANDARD
BEGIN:DAYLIGHT
TZOFFSETFROM:+0200
TZOFFSETTO:+0300
TZNAME:EEST
DTSTART:20210328T010000
END:DAYLIGHT
BEGIN:STANDARD
TZOFFSETFROM:+0300
TZOFFSETTO:+0200
TZNAME:EET
DTSTART:20211031T010000
END:STANDARD
END:VTIMEZONE
BEGIN:VEVENT
DTSTART;TZID=Europe/Sofia:20200625T100000
DTEND;TZID=Europe/Sofia:20200625T110000
DTSTAMP:20260420T162756
CREATED:20251120T133531Z
LAST-MODIFIED:20251120T135951Z
UID:2703-1593079200-1593082800@dobrich.bia-bg.com
SUMMARY:Дарение на електромобил за механотехникума в Добрич
DESCRIPTION:На 25 юни 2020 г.\, четвъртък\, от 10.00 часа\, в ПГ по механотехника и електротехника „М. Ломоносов“ официално ще бъде връчен електромобил\, който е дарение от Стопанска камара – Добрич. Електромобилът ще служи за учебни цели\, като предстои в гимназията да бъде открита и специализирана паралелка за електрическа мобилност. \nВ церемонията по връчването на дарението ще се включат кметът на Добрич – Йордан Йорданов\, зам.-областният управител\, отговарящ за образованието – Живко Желязков\, председателят на Стопанска камара Добрич – Николай Радев\, и др.
URL:https://dobrich.bia-bg.com/event/%d0%b4%d0%b0%d1%80%d0%b5%d0%bd%d0%b8%d0%b5-%d0%bd%d0%b0-%d0%b5%d0%bb%d0%b5%d0%ba%d1%82%d1%80%d0%be%d0%bc%d0%be%d0%b1%d0%b8%d0%bb-%d0%b7%d0%b0-%d0%bc%d0%b5%d1%85%d0%b0%d0%bd%d0%be%d1%82%d0%b5%d1%85/
CATEGORIES:Други
ATTACH;FMTTYPE=image/jpeg:https://dobrich.bia-bg.com/wp-content/uploads/2020/06/unnamed-1.jpg
END:VEVENT
END:VCALENDAR