BEGIN:VCALENDAR
VERSION:2.0
PRODID:-//Стопанска камара Добрич - ECPv6.15.20//NONSGML v1.0//EN
CALSCALE:GREGORIAN
METHOD:PUBLISH
X-ORIGINAL-URL:https://dobrich.bia-bg.com
X-WR-CALDESC:Събития за Стопанска камара Добрич
REFRESH-INTERVAL;VALUE=DURATION:PT1H
X-Robots-Tag:noindex
X-PUBLISHED-TTL:PT1H
BEGIN:VTIMEZONE
TZID:Europe/Sofia
BEGIN:DAYLIGHT
TZOFFSETFROM:+0200
TZOFFSETTO:+0300
TZNAME:EEST
DTSTART:20180325T010000
END:DAYLIGHT
BEGIN:STANDARD
TZOFFSETFROM:+0300
TZOFFSETTO:+0200
TZNAME:EET
DTSTART:20181028T010000
END:STANDARD
BEGIN:DAYLIGHT
TZOFFSETFROM:+0200
TZOFFSETTO:+0300
TZNAME:EEST
DTSTART:20190331T010000
END:DAYLIGHT
BEGIN:STANDARD
TZOFFSETFROM:+0300
TZOFFSETTO:+0200
TZNAME:EET
DTSTART:20191027T010000
END:STANDARD
BEGIN:DAYLIGHT
TZOFFSETFROM:+0200
TZOFFSETTO:+0300
TZNAME:EEST
DTSTART:20200329T010000
END:DAYLIGHT
BEGIN:STANDARD
TZOFFSETFROM:+0300
TZOFFSETTO:+0200
TZNAME:EET
DTSTART:20201025T010000
END:STANDARD
END:VTIMEZONE
BEGIN:VEVENT
DTSTART;TZID=Europe/Sofia:20191011T100000
DTEND;TZID=Europe/Sofia:20191011T150000
DTSTAMP:20260421T075627
CREATED:20251120T134009Z
LAST-MODIFIED:20251120T154058Z
UID:2715-1570788000-1570806000@dobrich.bia-bg.com
SUMMARY:Работна среща на Областната координационна група за учене през целия живот
DESCRIPTION:На 11 октомври 2019 г.\, от 10.00 часа\, в сградата на Областна администрация – Добрич\, ще се проведе първата работна среща на Областната координационна група (ОКГ) за учене през целия живот\, в която ще участва и председателят на Стопанска камара Добрич – Николай Радев. \nОбластната координационна група за учене през целия живот се създава в изпълнение на Европейската програма за учене на възрастни и на Националната стратегия за учене през целия живот за периода 2014-2020 г. \nАналогично на Националната координационна група за учене през целия живот\, която функционира от 2014 г.\, основните функции на ОКГ ще бъдат насочени към планиране\, оценка и анализ на политиката за учене през целия живот. Целта е да стартира прилагането на ефективна система за координиране на всички заинтересовани страни за осигуряване на съгласуваност и ефективност на политиката за учене на възрастни\, както и осигуряване на условия за нейното разработване на областно ниво. \nПо време на първата си среща членовете на ОКГ ще приемат Правилник за дейността на Групата. \nЗа повече информация: Кемал Асан – главен експерт в Областна администрация – Добрич\, тел. 058/ 655 418.
URL:https://dobrich.bia-bg.com/event/%d1%80%d0%b0%d0%b1%d0%be%d1%82%d0%bd%d0%b0-%d1%81%d1%80%d0%b5%d1%89%d0%b0-%d0%bd%d0%b0-%d0%be%d0%b1%d0%bb%d0%b0%d1%81%d1%82%d0%bd%d0%b0%d1%82%d0%b0-%d0%ba%d0%be%d0%be%d1%80%d0%b4%d0%b8%d0%bd%d0%b0/
LOCATION:Областна администрация Добрич\, ул. "Независимост" № 5\, Добрич\, Bulgaria
CATEGORIES:Заседания и срещи
ATTACH;FMTTYPE=image/jpeg:https://dobrich.bia-bg.com/wp-content/uploads/2019/09/Учене-през-целия-живот.jpg
END:VEVENT
BEGIN:VEVENT
DTSTART;TZID=Europe/Sofia:20191017T100000
DTEND;TZID=Europe/Sofia:20191017T170000
DTSTAMP:20260421T075627
CREATED:20251120T133922Z
LAST-MODIFIED:20251120T154117Z
UID:2713-1571306400-1571331600@dobrich.bia-bg.com
SUMMARY:Заседание на Комисията по заетост към Областния съвет за развитие
DESCRIPTION:На 17 октомври 2019 г.\, от 10.00 часа\, в зала „Пресцентър“ на Областна администрация – Добрич\, ще се проведе заседание на Комисията по заетост към Областния съвет за развитие. Ще бъде представена и обсъдена информация от проведено анкетно проучване на потребностите на работодателите от работна сила\, по реда на Закона за насърчаване на заетостта. В заседанието ще участва и председателят на Стопанска камара – Добрич\, Николай Радев.
URL:https://dobrich.bia-bg.com/event/%d0%b7%d0%b0%d1%81%d0%b5%d0%b4%d0%b0%d0%bd%d0%b8%d0%b5-%d0%bd%d0%b0-%d0%ba%d0%be%d0%bc%d0%b8%d1%81%d0%b8%d1%8f%d1%82%d0%b0-%d0%bf%d0%be-%d0%b7%d0%b0%d0%b5%d1%82%d0%be%d1%81%d1%82-%d0%ba%d1%8a%d0%bc/
LOCATION:Областна администрация Добрич\, ул. "Независимост" № 5\, Добрич\, Bulgaria
CATEGORIES:Заседания и срещи
ATTACH;FMTTYPE=image/jpeg:https://dobrich.bia-bg.com/wp-content/uploads/2019/06/Североизточен.jpg
END:VEVENT
BEGIN:VEVENT
DTSTART;VALUE=DATE:20191028
DTEND;VALUE=DATE:20191101
DTSTAMP:20260421T075627
CREATED:20251120T133842Z
LAST-MODIFIED:20251120T140012Z
UID:2711-1572220800-1572566399@dobrich.bia-bg.com
SUMMARY:Дни на отворени врати при работодатели и в професионалните гимназии на регионално ниво
DESCRIPTION:В периода 28-31 октомври 2019 г. ще се проведе „Седмица на професионалните умения в България“. Събитието е част от Европейската седмица на професионалните умения и се организира от Министерството на образованието и науката. В рамките на Седмицата на професионалните умения ще се проведат Дни на отворени врати при работодатели и в професионалните гимназии на регионално ниво. \nМОН и РУО-Добрич канят работодателите да се включат в Дните на отворените врати и да посрещнат ученици в своите производствени помещения\, където да ги запознаят с естеството на работа и да привлекат техния интерес към професионалното образование. \nРаботодателите\, които имат интерес и готовност да се включат в инициативата\, могат да заявят това свое желание чрез Стопанска камара Добрич\, на адрес dobrich@bia-bg.com\, до 23 октомври 2019 г. В писмото си посочете: името на компанията\, адрес\, подходяща дата за посещение и лице за контакт.
URL:https://dobrich.bia-bg.com/event/%d0%b4%d0%bd%d0%b8-%d0%bd%d0%b0-%d0%be%d1%82%d0%b2%d0%be%d1%80%d0%b5%d0%bd%d0%b8-%d0%b2%d1%80%d0%b0%d1%82%d0%b8-%d0%bf%d1%80%d0%b8-%d1%80%d0%b0%d0%b1%d0%be%d1%82%d0%be%d0%b4%d0%b0%d1%82%d0%b5%d0%bb/
CATEGORIES:Други
ATTACH;FMTTYPE=image/jpeg:https://dobrich.bia-bg.com/wp-content/uploads/2019/10/dni-na-otvorenite-vrati.jpg
END:VEVENT
END:VCALENDAR