BEGIN:VCALENDAR
VERSION:2.0
PRODID:-//Стопанска камара Добрич - ECPv6.15.20//NONSGML v1.0//EN
CALSCALE:GREGORIAN
METHOD:PUBLISH
X-WR-CALNAME:Стопанска камара Добрич
X-ORIGINAL-URL:https://dobrich.bia-bg.com
X-WR-CALDESC:Събития за Стопанска камара Добрич
REFRESH-INTERVAL;VALUE=DURATION:PT1H
X-Robots-Tag:noindex
X-PUBLISHED-TTL:PT1H
BEGIN:VTIMEZONE
TZID:Europe/Sofia
BEGIN:DAYLIGHT
TZOFFSETFROM:+0200
TZOFFSETTO:+0300
TZNAME:EEST
DTSTART:20200329T010000
END:DAYLIGHT
BEGIN:STANDARD
TZOFFSETFROM:+0300
TZOFFSETTO:+0200
TZNAME:EET
DTSTART:20201025T010000
END:STANDARD
BEGIN:DAYLIGHT
TZOFFSETFROM:+0200
TZOFFSETTO:+0300
TZNAME:EEST
DTSTART:20210328T010000
END:DAYLIGHT
BEGIN:STANDARD
TZOFFSETFROM:+0300
TZOFFSETTO:+0200
TZNAME:EET
DTSTART:20211031T010000
END:STANDARD
BEGIN:DAYLIGHT
TZOFFSETFROM:+0200
TZOFFSETTO:+0300
TZNAME:EEST
DTSTART:20220327T010000
END:DAYLIGHT
BEGIN:STANDARD
TZOFFSETFROM:+0300
TZOFFSETTO:+0200
TZNAME:EET
DTSTART:20221030T010000
END:STANDARD
END:VTIMEZONE
BEGIN:VEVENT
DTSTART;VALUE=DATE:20211015
DTEND;VALUE=DATE:20211016
DTSTAMP:20260422T073709
CREATED:20251120T133025Z
LAST-MODIFIED:20251120T135944Z
UID:2693-1634256000-1634342399@dobrich.bia-bg.com
SUMMARY:Включете се в проучване на потребностите от работна сила до 15 октомври 2021 г.!
DESCRIPTION:УВАЖАЕМИ ДАМИ И ГОСПОДА\, \nВъв връзка с проучване на потребностите от работна сила\, което на основание чл.10 от Закона за насърчаване на заетостта /ЗНЗ/ се провежда два пъти в годината от Агенцията по заетостта съвместно с Комисията по заетостта към Областния съвет за развитие Ви предоставям следната информация: \nОбобщените резултати от 7-те проучвания\, проведени през настоящата и предходните 3 години\, сред работодателите за обхвата\, професиите\, компетенциите\, знанията и уменията на търсените кадри на областно и национално ниво са публикувани на сайта на Агенцията по заетостта\, в рубриката „Проучване на потребностите от работна сила”. \nВторото за 2021 г. анкетиране на работодателите ще се извърши през периода от 1-ви септември до 15-ти октомври 2021 г. (вкл.). За целта ще се използва приложеният при първото за 2021 г. проучване електронен /on-line/ анкетен формуляр\, в който не са извършени промени. Същият е предназначен за работодатели от формирана статистическа извадка за всяка област – представители на различни групи по големина\, икономическа дейност и др.\, с което ще се формира национална представителност на проучването. \nВ чл. 7а от Правилника за прилагане на ЗНЗ /ППЗНЗ/ е определен редът за провеждане на проучването\, като за второто за 2021 г. проучване е необходимо: \n\nПри необходимост със заповед на Областния управител да се актуализира състава на работната група\, която организира\, координира и провежда събирането на информация от работодателите от приложената извадка в областта\, като разпредели отговорностите по осъществяване на анкетирането на работодателите от извадката.\nПредоставянето на анкетата да се извърши съвместно с ДБТ от областта\, чрез изпращане на линка към анкетата по ел. поща на конкретните работодатели от извадката\, както и чрез пряк или телефонен контакт с работодателите от извадката за информиране\, консултиране и съдействие при попълване на анкетния формуляр.\nОбобщаването на резултатите по области ще се извърши от ЦА на АЗ\, като обработените данни в табличен формат /Excel/ ще бъдат предоставени чрез ДРСЗ на работната групи към КЗ\, в срока\, определен в приложената Матрица.\nПредседателят на Комисията по заетостта следва в срок до 05.11.2021 г. да изпрати доклад с анализ на резултатите от проведеното проучване на потребностите на работодателите до централното управление на Агенцията по заетостта по електронен път на следните ел.адреси: kremena.kalcheva@az.government.bg и a.delibasheva@az.government.bg или на официалния ел. адрес на Агенцията по заетостта.\n\nКонкретните дейности\, сроковете\, начините и отговорните участници за изпълнението им са съгласно Матрица на дейностите за проучване на потребностите на работодателите\, приложена отново към настоящото писмо. \nАнкетният формуляр е само в електронен формат и за попълването му следва да се ползва следният линк: \nhttp://survey.az.government.bg/index.php/224593?lang=bg \nПриложено\, Ви предоставям анкетата в четим формат за сведение\, Матрица на дейностите за проучване на потребностите на работодателите\, Списък на работодателите за анкетиране – пълна статистическа извадка. \n  \nИЗТЕГЛЕТЕ ФОРМУЛЯРА ЗА УЧАСТИЕ В АНКЕТАТА
URL:https://dobrich.bia-bg.com/event/%d0%b2%d0%ba%d0%bb%d1%8e%d1%87%d0%b5%d1%82%d0%b5-%d1%81%d0%b5-%d0%b2-%d0%bf%d1%80%d0%be%d1%83%d1%87%d0%b2%d0%b0%d0%bd%d0%b5-%d0%bd%d0%b0-%d0%bf%d0%be%d1%82%d1%80%d0%b5%d0%b1%d0%bd%d0%be%d1%81%d1%82/
CATEGORIES:Срокове
ATTACH;FMTTYPE=image/jpeg:https://dobrich.bia-bg.com/wp-content/uploads/2020/02/item_itemitemitemitememployment.jpg
END:VEVENT
BEGIN:VEVENT
DTSTART;VALUE=DATE:20211022
DTEND;VALUE=DATE:20211023
DTSTAMP:20260422T073709
CREATED:20251120T133108Z
LAST-MODIFIED:20251120T135919Z
UID:2695-1634860800-1634947199@dobrich.bia-bg.com
SUMMARY:Предстоят промени в отчетността на фирмите към НСИ. Срок за коментари 22 октомври!
DESCRIPTION:УВАЖАЕМИ ДАМИ И ГОСПОДА\, \nИнформирам Ви\, че на 2 септември 2021 г.\, в НСИ бе проведена работна среща\, на която бяха представени промените в годишното отчитане на юридическите лица за 2021 г. \nАкцент бе поставен върху отчетността на местни единици\, които развиват дейността си на повече от един адрес. \nСправката присъства вече няколко години в пакета документи\, които се представят от фирмите в НСИ\, като за 2021 г. попълването на тази справка вече става задължително. \nПо-долу прикачваме файлове с пояснителни бележки относно местните единици и презентация за промените в отчетността. \nМоля Вашите становища и възникнали въпроси да изпратите в срок до 22 октомври 2021 г. на адрес: silvia@bia-bg.com\, за да може да Ви бъде оказано съдействие от Българската стопанска камара (БСК) при необходимост и включването на коментарите Ви в становището на БСК. \nИзтеглете прикачените документи ОТТУК!
URL:https://dobrich.bia-bg.com/event/%d0%bf%d1%80%d0%b5%d0%b4%d1%81%d1%82%d0%be%d1%8f%d1%82-%d0%bf%d1%80%d0%be%d0%bc%d0%b5%d0%bd%d0%b8-%d0%b2-%d0%be%d1%82%d1%87%d0%b5%d1%82%d0%bd%d0%be%d1%81%d1%82%d1%82%d0%b0-%d0%bd%d0%b0-%d1%84%d0%b8/
CATEGORIES:Срокове
ATTACH;FMTTYPE=image/jpeg:https://dobrich.bia-bg.com/wp-content/uploads/2021/09/НСИ.jpg
END:VEVENT
END:VCALENDAR