BEGIN:VCALENDAR
VERSION:2.0
PRODID:-//Стопанска камара Добрич - ECPv6.15.20//NONSGML v1.0//EN
CALSCALE:GREGORIAN
METHOD:PUBLISH
X-WR-CALNAME:Стопанска камара Добрич
X-ORIGINAL-URL:https://dobrich.bia-bg.com
X-WR-CALDESC:Събития за Стопанска камара Добрич
REFRESH-INTERVAL;VALUE=DURATION:PT1H
X-Robots-Tag:noindex
X-PUBLISHED-TTL:PT1H
BEGIN:VTIMEZONE
TZID:Europe/Sofia
BEGIN:DAYLIGHT
TZOFFSETFROM:+0200
TZOFFSETTO:+0300
TZNAME:EEST
DTSTART:20180325T010000
END:DAYLIGHT
BEGIN:STANDARD
TZOFFSETFROM:+0300
TZOFFSETTO:+0200
TZNAME:EET
DTSTART:20181028T010000
END:STANDARD
BEGIN:DAYLIGHT
TZOFFSETFROM:+0200
TZOFFSETTO:+0300
TZNAME:EEST
DTSTART:20190331T010000
END:DAYLIGHT
BEGIN:STANDARD
TZOFFSETFROM:+0300
TZOFFSETTO:+0200
TZNAME:EET
DTSTART:20191027T010000
END:STANDARD
BEGIN:DAYLIGHT
TZOFFSETFROM:+0200
TZOFFSETTO:+0300
TZNAME:EEST
DTSTART:20200329T010000
END:DAYLIGHT
BEGIN:STANDARD
TZOFFSETFROM:+0300
TZOFFSETTO:+0200
TZNAME:EET
DTSTART:20201025T010000
END:STANDARD
BEGIN:DAYLIGHT
TZOFFSETFROM:+0200
TZOFFSETTO:+0300
TZNAME:EEST
DTSTART:20210328T010000
END:DAYLIGHT
BEGIN:STANDARD
TZOFFSETFROM:+0300
TZOFFSETTO:+0200
TZNAME:EET
DTSTART:20211031T010000
END:STANDARD
BEGIN:DAYLIGHT
TZOFFSETFROM:+0200
TZOFFSETTO:+0300
TZNAME:EEST
DTSTART:20220327T010000
END:DAYLIGHT
BEGIN:STANDARD
TZOFFSETFROM:+0300
TZOFFSETTO:+0200
TZNAME:EET
DTSTART:20221030T010000
END:STANDARD
BEGIN:DAYLIGHT
TZOFFSETFROM:+0200
TZOFFSETTO:+0300
TZNAME:EEST
DTSTART:20230326T010000
END:DAYLIGHT
BEGIN:STANDARD
TZOFFSETFROM:+0300
TZOFFSETTO:+0200
TZNAME:EET
DTSTART:20231029T010000
END:STANDARD
BEGIN:DAYLIGHT
TZOFFSETFROM:+0200
TZOFFSETTO:+0300
TZNAME:EEST
DTSTART:20240331T010000
END:DAYLIGHT
BEGIN:STANDARD
TZOFFSETFROM:+0300
TZOFFSETTO:+0200
TZNAME:EET
DTSTART:20241027T010000
END:STANDARD
BEGIN:DAYLIGHT
TZOFFSETFROM:+0200
TZOFFSETTO:+0300
TZNAME:EEST
DTSTART:20250330T010000
END:DAYLIGHT
BEGIN:STANDARD
TZOFFSETFROM:+0300
TZOFFSETTO:+0200
TZNAME:EET
DTSTART:20251026T010000
END:STANDARD
BEGIN:DAYLIGHT
TZOFFSETFROM:+0200
TZOFFSETTO:+0300
TZNAME:EEST
DTSTART:20260329T010000
END:DAYLIGHT
BEGIN:STANDARD
TZOFFSETFROM:+0300
TZOFFSETTO:+0200
TZNAME:EET
DTSTART:20261025T010000
END:STANDARD
END:VTIMEZONE
BEGIN:VEVENT
DTSTART;VALUE=DATE:20251209
DTEND;VALUE=DATE:20251212
DTSTAMP:20260421T044613
CREATED:20251120T120429Z
LAST-MODIFIED:20251120T135217Z
UID:2618-1765238400-1765497599@dobrich.bia-bg.com
SUMMARY:Black Sea Multi-Sector International B2B Business Meetings Event
DESCRIPTION:Международното събитие за бизнес срещи B2B „Black Sea Multi-Sector International B2B Business Meetings Event“ ще се проведе на 9-11 декември 2025 г.\, организирано от Търговско-промишлената палата в град Трабзон в рамките на Enterprise Europe Network. \nСекторите\, които ще бъдат представени на събитието\, са следните: \n\nХрани и напитки\, селско стопанство и аквакултури\nМашини\, метали и металообработване\nОпаковки\, химикали и пластмаси\nСтроителство\, строителни материали и минно дело\nМебели\nТекстил\, домашен текстил и обувки\nБижута\nЕнергетика\nКорабостроене и морски технологии\nИнформационни технологии\nТуризъм\, здравен туризъм\nЗдраве и красота\n\nВизуални материали\, свързани със събитието\, са приложени\, а подробна информация и линк за регистрация са предоставени по-долу: \n– ФОРМА ЗА РЕГИСТРАЦИЯ\n– ПОВЕЧЕ ИНФОРМАЦИЯ ЗА ИЗЛОЖЕНИЕТО
URL:https://dobrich.bia-bg.com/event/black-sea-multi-sector-international-b2b-business-meetings-event/
CATEGORIES:Делови форуми
ATTACH;FMTTYPE=image/jpeg:https://dobrich.bia-bg.com/wp-content/uploads/2025/11/Ingilizce-Gorsel.jpeg
END:VEVENT
BEGIN:VEVENT
DTSTART;VALUE=DATE:20251121
DTEND;VALUE=DATE:20251122
DTSTAMP:20260421T044613
CREATED:20251120T120548Z
LAST-MODIFIED:20251120T135353Z
UID:2622-1763683200-1763769599@dobrich.bia-bg.com
SUMMARY:Истанбул: Бизнес форум „Доставчици от Турция за български фирми“
DESCRIPTION:Турската асоциация на износителите (TİM)\, Съветът за външноикономически отношения (DEİK) и BULTİŞAD ще организират съвместно бизнес форум на тема „Доставчици от Турция“ в Истанбул на 21 ноември 2025 г. \nУчастието във форума ще бъде от полза за компании\, които търсят доставчици в секторите на автомобилната промишленост\, металургията\, строителството\, химическата промишленост\, машиностроенето\, електрониката\, текстилната промишленост\, мебелната промишленост\, пластмасовата промишленост\, опаковъчната промишленост\, хранително-вкусовата промишленост\, селското стопанство\, енергетика\, отбранителна промишленост\, бяла техника и козметика. \nЗаинтересованите лица могат да потвърдят участието си до 7 ноември 2025 г. чрез линка за участие по-долу или чрез изпращане на имейл на адрес office@bgtrchamber.com  и обаждане на телефон +359 89 666 6103. \nПодробности за форума:\nДата: 21 ноември 2025 г.\nМясто: TİM – Конферентна зала „Ömer Halisdemir“\, Йенибосна\, Истанбул\nРегистрация: https://delegations.tim.org.tr/event/bulgaria-buying-mission-2025/registe
URL:https://dobrich.bia-bg.com/event/%d0%b8%d1%81%d1%82%d0%b0%d0%bd%d0%b1%d1%83%d0%bb-%d0%b1%d0%b8%d0%b7%d0%bd%d0%b5%d1%81-%d1%84%d0%be%d1%80%d1%83%d0%bc-%d0%b4%d0%be%d1%81%d1%82%d0%b0%d0%b2%d1%87%d0%b8%d1%86%d0%b8-%d0%be%d1%82/
CATEGORIES:Делови форуми,Панаири и изложения
ATTACH;FMTTYPE=image/jpeg:https://dobrich.bia-bg.com/wp-content/uploads/2025/10/2025-10-31-102024.jpg
END:VEVENT
BEGIN:VEVENT
DTSTART;TZID=Europe/Sofia:20250910T093000
DTEND;TZID=Europe/Sofia:20250910T120000
DTSTAMP:20260421T044613
CREATED:20251120T121723Z
LAST-MODIFIED:20251120T153153Z
UID:2637-1757496600-1757505600@dobrich.bia-bg.com
SUMMARY:Регионална информационна среща за въвеждане на еврото в България
DESCRIPTION:Министерството на финансите стартира серия от информационни срещи с представители на местните власти\, бизнеса и гражданите в страната\, част от информационната кампания за въвеждането на еврото в България. \nЦелта на инициативата е да информира обществото за конкретните срокове\, стъпки и практически аспекти\, които съпътстват историческия преход към единната европейска валута. \nПо време на събитията участниците ще имат възможност да се срещнат с ръководители и експерти от ключови институции\, ангажирани с процеса по въвеждане на еврото\, и лично да зададат своите въпроси. \nСрещите ще се проведат\, както следва: \n\nБургас\, 02.09-2025 г.\, 9:30-12:00 ч.\, сградата на Международен конгресен център Бургас (Морска гара)\, зала „Черноморие“.\nСтара Загора\, 03.09.2025 г.\, 9:30-16:00 ч.\, Заседателна зала „П.Р. Славейков“\, бул. „Цар Симеон Велики“ №107\,  в сградата общинска администрация  на Стара Загора;\nПловдив\, 04.09.2025 г.\, 14:30-16:30 ч.\, DoubleTree by Hilton Plovdiv Center\, площад „Света Петка“ 1;\nТърговище\, 09.09.2025 г.\, 13.30-16.00 ч.\, Хотел Терра Европа 4*\, ул.“Стефан Караджа“ 13;\nДобрич\, 10.09.2025 г.\, 9:30-12:00 ч.\, Сградата на общината\, ул. „България“ 12;\nБлагоевград\, 11.09.2025 г.\, 9:30-12:00 ч.\, Зала „22 септември“\, Площад „Георги Измирлиев – Македончето“ 1;\nРазград\, 11.09.2025 г.\, 9:30-12:00 ч.\, Зала „Филхармония“\, улица „Бели лом“;\nСилистра\, 12.09.2025 г.\, 9:30-12:00 ч.\, Сградата на общината\, ул. „Симеон Велики“ №33.\n\nЖелаещите да се включат в събитията могат да се регистрират на следните регистрационни форми: \n\nБургас\, 02.09.2025 г.: https://forms.gle/qGoHaRVLQCJm7eCX8\nСтара Загора\, 03.09.2025 година: https://forms.gle/oZ2bjdMzS4FcnuSC9\nПловдив\, 04.09.2025 година: https://forms.gle/AkaoyfNxdJ1Mnvoa6\nТърговище\, 09.09.2025 година: https://forms.gle/d8uSDSjMZTTTKoBi9\nДобрич\, 10.09.2025 година: https://forms.gle/hu7otRTSEfyGs52t8\nРазград\, 11.09.2025 година: https://forms.gle/FeweGNsFLoBNYiKi9\nБлагоевград\, 11.09.2025 година: https://forms.gle/P5yN9DkjxU6yPhVz7\nСилистра\, 12.09.2025 година: https://forms.gle/zReGQUvkWszbuNhk6\n\nПри възникнали въпроси и за допълнителна информация можете да се обръщате към г-жа Кремена Мизова от Министерството на финансите – тел.: +359 889 47 47 52 или да пишете на e-mail: europr@minfin.bg. \nСъбития ще се излъчват на живо на: evroto.bg :: На живо и  на https://www.facebook.com/zaevrotobg?locale=bg_BG
URL:https://dobrich.bia-bg.com/event/%d1%80%d0%b5%d0%b3%d0%b8%d0%be%d0%bd%d0%b0%d0%bb%d0%bd%d0%b0-%d0%b8%d0%bd%d1%84%d0%be%d1%80%d0%bc%d0%b0%d1%86%d0%b8%d0%be%d0%bd%d0%bd%d0%b0-%d1%81%d1%80%d0%b5%d1%89%d0%b0-%d0%b7%d0%b0-%d0%b2%d1%8a/
LOCATION:Община град Добрич\, бул. България 12\, Добрич\, Bulgaria
CATEGORIES:Делови форуми
ATTACH;FMTTYPE=image/jpeg:https://dobrich.bia-bg.com/wp-content/uploads/2025/08/eurotoBG.jpg
END:VEVENT
BEGIN:VEVENT
DTSTART;TZID=Europe/Sofia:20240328T100000
DTEND;TZID=Europe/Sofia:20240328T170000
DTSTAMP:20260421T044613
CREATED:20251120T132241Z
LAST-MODIFIED:20251120T135626Z
UID:2675-1711620000-1711645200@dobrich.bia-bg.com
SUMMARY:Конференция „Време е за Update“
DESCRIPTION:Министерството на труда и социалната политика (МТСП) чрез Програма „Развитие на човешките ресурси“\, в партньорство с Областна администрация – Варна и Икономически университет – Варна\, организира Конференция „Време е за Update“\, на 28 март 2024 г.\, от 10:00 ч\, в Аулата на Икономически университет – Варна (гр. Варна\, бул. Княз Борис I №77). \nЦелта на форума е да стимулира тясното сътрудничество между образователната система и бизнеса с цел подготовка на кадри за бъдещия пазар на труда. По време на форума ще бъдат популяризирани уменията\, които ще бъдат най-търсени от бизнеса в ерата на дигиталната трансформация\, както и възможностите за включване в образование и обучение\, които да дадат конкурентни предимства на хората в трудоспособна възраст. Събитието е част от Календара на Европейската година на уменията. \nКонференцията ще се проведе в две части. В първата част са обособени панели с конкретни теми\, в които ще се включат не само участниците на сцената\, но и присъстващите в залата. Втората част ще се проведе под формата на демонстрация на дигитални продукти за пазара на труда\, създадени от местни IT компании (демонстрацията ще бъде организирана във фоайето пред Аулата на университета). \nАдаптацията на работодателите и на работниците и служителите към променящия се пазар на труда е цел\, която МТСП може да реализира успешно с национално представителните организации на работниците и служителите. Българската стопанска камара (БСК) е важен партньор на МТСП в планирането и реализирането на мерки на пазара на труда. В тази връзка във форума ще се включат Светлана Дончева – директор на Центъра за управление на проекти в БСК\, както и представители на регионалните структури на Камарата във Варна и Добрич. Те ще участват в дискусионния панел „Бизнес и дигитализация – какво търсят работодателите?“\, в рамките на който ще бъдат дискутирани въпросите за мета уменията като ключ за постигане на резултати в личностното и професионално развитие.
URL:https://dobrich.bia-bg.com/event/%d0%ba%d0%be%d0%bd%d1%84%d0%b5%d1%80%d0%b5%d0%bd%d1%86%d0%b8%d1%8f-%d0%b2%d1%80%d0%b5%d0%bc%d0%b5-%d0%b5-%d0%b7%d0%b0-update/
CATEGORIES:Делови форуми
ATTACH;FMTTYPE=image/jpeg:https://dobrich.bia-bg.com/wp-content/uploads/2024/03/EYOS_Logo_BG.jpg
END:VEVENT
BEGIN:VEVENT
DTSTART;TZID=Europe/Sofia:20220307T110000
DTEND;TZID=Europe/Sofia:20220307T170000
DTSTAMP:20260421T044613
CREATED:20251120T132755Z
LAST-MODIFIED:20251120T135927Z
UID:2687-1646650800-1646672400@dobrich.bia-bg.com
SUMMARY:ФОРУМ „ИНОВАЦИИ И РАСТЕЖ: ВАРНА“
DESCRIPTION:На 7 март 2022 г. от 11.00 часа в сградата на Висшето военноморско училище „Н. Й. Вапцаров“ във Варна ще се проведе бизнес събитието „ИНОВАЦИИ И РАСТЕЖ: ВАРНА“\, което ще събере на едно място представители на новосъздаденото Министерство на иновациите и растежа от страна на ОП „Иновации и конкурентоспособност“ (ОПИК)\, Българска банка за развитие и Фонд на фондовете\, които ще представят своите програми за развитие на бизнеса\, както и от страна на главния организатор на събитието – ИАНМСП. \nСъбитието ще бъде открито от министъра на иновациите и растежа Даниел Лорер\, а в специална презентационна част ще бъдат представени: \n\nМерки за насърчаване на иновациите и растежа на ОПИК\nМерки и инструменти в подкрепа на предприемачеството\, прилагани от ИАНМСП\nНови продукти в подкрепа на иновационното развитие и растежа на предприятията\, предлагани от Българската банка за развитие\nФинансиране по програмите на Фонда на фондовете\nНовият иновационен център към Висшето военноморско училище „Никола Й. Вапцаров“ – цели и предизвикателства\nЧерноморски икономически механизъм и развитие на синята икономика – възможности за растеж на морските индустрии\n\nУчастие в събитието ще вземат още представители на Морски клъстър България\, представители на публичния и частния сектор\, както и на академичната общност. \nПри проявен интерес следва да бъде направена регистрация до 2 март 2022 г. на адрес www.b2bconnect.bg\, на страницата на събитието. \nДопълнителна информация може да бъде получена от Николина Георгиева\, тел. 02 940 7977 или Даяна Иванова\, тел. 02/940 7983.
URL:https://dobrich.bia-bg.com/event/%d1%84%d0%be%d1%80%d1%83%d0%bc-%d0%b8%d0%bd%d0%be%d0%b2%d0%b0%d1%86%d0%b8%d0%b8-%d0%b8-%d1%80%d0%b0%d1%81%d1%82%d0%b5%d0%b6-%d0%b2%d0%b0%d1%80%d0%bd%d0%b0/
CATEGORIES:Делови форуми
ATTACH;FMTTYPE=image/jpeg:https://dobrich.bia-bg.com/wp-content/uploads/2022/02/2022-03-07-Innovation_Varna.jpg
END:VEVENT
BEGIN:VEVENT
DTSTART;VALUE=DATE:20191122
DTEND;VALUE=DATE:20191123
DTSTAMP:20260421T044613
CREATED:20251120T133710Z
LAST-MODIFIED:20251120T140004Z
UID:2707-1574380800-1574467199@dobrich.bia-bg.com
SUMMARY:Регионална среща с бизнеса във Варна
DESCRIPTION:В изпълнение на проект „Изготвяне на Национална стратегия за малки и средни предприятия (МСП) в България 2021 – 2027 г.“\, Министерството на икономиката организира регионални консултации за обмяна на мнения и идеи с представители на малкия и среден бизнес\, работодателски организации\, синдикати\, неправителствени организации и всички заинтересовани страни. Събитието е предназначено за: собственици и/или управители на МСП\, работодателски организации\, НПО\, представители на местната власт и други заинтересовани лица. \nЗа Североизточен район регионалната консултация ще се проведе в гр. Варна на 22 ноември 2019 г.\, във Фестивален и конгресен център\, зала 4 „Пресцентър“. Участието е безплатно\, но за да запазите своето място\, е необходимо да попълните регистрационната форма ТУК до 19 ноември! \nНовият дългосрочен стратегически документ ще послужи за основа на следващата многогодишна финансова рамка 2021 – 2027 г. и ще определи националните приоритети и мерки в подкрепа на малките и средни предприятия и за подобряване на бизнес средата. Приоритетни области за стратегическия документ са: предприемачество\, достъп до финансиране\, достъп до пазари\, дигитализация и умения\, околна среда\, бизнес среда. \nАктивното участие във формулирането и обсъждането на конкретните политики за подкрепа е важно за бъдещото развитие на МСП; за формирането на целите\, приоритетите и мерките по бъдещата Оперативна програма Иновации и конкурентоспособност 2021-2027 г. \nВашето мнение е важно\, затова предоставяме възможност да споделите своите въпроси и коментари преди\, по време на и след всяка регионална консултация тук. \nЗа контакт: Валентина Янакиева – valentina.yanakieva@pwc.com или тел. +359 894 332 934.
URL:https://dobrich.bia-bg.com/event/%d1%80%d0%b5%d0%b3%d0%b8%d0%be%d0%bd%d0%b0%d0%bb%d0%bd%d0%b0-%d1%81%d1%80%d0%b5%d1%89%d0%b0-%d1%81-%d0%b1%d0%b8%d0%b7%d0%bd%d0%b5%d1%81%d0%b0-%d0%b2%d1%8a%d0%b2-%d0%b2%d0%b0%d1%80%d0%bd%d0%b0/
CATEGORIES:Делови форуми
ATTACH;FMTTYPE=image/jpeg:https://dobrich.bia-bg.com/wp-content/uploads/2019/06/Североизточен.jpg
END:VEVENT
BEGIN:VEVENT
DTSTART;VALUE=DATE:20190621
DTEND;VALUE=DATE:20190622
DTSTAMP:20260421T044613
CREATED:20251120T134409Z
LAST-MODIFIED:20251120T140042Z
UID:2723-1561075200-1561161599@dobrich.bia-bg.com
SUMMARY:Конференция „Бизнесът и регионите“ (София)
DESCRIPTION:Списание „Икономист“ и Българската стопанска камара имат удоволствието да Ви поканят да участвате в конференцията „Бизнесът и регионите“\, която ще се проведе на 21 юни 2019 г.\, петък\, от 9\,00 ч. в хотел „Хилтън“\, гр. София. \nЦелта на дискусията е да покаже как големият бизнес допринася за устойчивото развитие на регионите в България; влиянието\, което оказва върху развитието на малкия бизнес; значението му за съществуването на редица населени места. Включва както икономически аспекти\, така и социални инициативи и въпроси\, свързани с развитие на обществото. \nДискусията ще се концентрира в три основни панела: \n\n„Въздействието на големия бизнес върху икономическото развитие на регионите – преки ефекти (създаване и развитието на малки бизнеси\, свързани с дейността на големия или с обслужването на служителите му\, примери на устойчивото им развитие) и непреки ефекти (как местната власт мултиплицира бизнес успеха чрез привличане на още инвеститори).\nВъздействието на големия бизнес върху социалното развитие и качеството на живот в регионите – споделяне на добри практики от реализирани и реализиращи се проекти за създаване на споделена стойност (shared value creation) и подкрепа на местните общности в здравеопазването\, образованието\, околната среда и др.\nВъзможности за финансова подкрепа за развитието на бизнеса и регионите – подкрепа на стартирането и разрастването на малки и средни компании като поддоставчици; подкрепа за растежа на големите компании\, което засилва положителното влияние върху регионалните икономики.\n\nДа открият конференцията са поканени вицепремиерът Томислав Дончев и министърът на регионалното развитие Петя Аврамова. В началото й Институтът за пазарна икономика ще представи анализ на регионалните профили\, а консултантската компания „Денкщат“ ще акцентира върху устойчивото развитие на регионите. \nВж. ПРОГРАМА и РЕГИСТРАЦИОННА ФОРМА \nВижте САЙТА НА СЪБИТИЕТО!
URL:https://dobrich.bia-bg.com/event/%d0%ba%d0%be%d0%bd%d1%84%d0%b5%d1%80%d0%b5%d0%bd%d1%86%d0%b8%d1%8f-%d0%b1%d0%b8%d0%b7%d0%bd%d0%b5%d1%81%d1%8a%d1%82-%d0%b8-%d1%80%d0%b5%d0%b3%d0%b8%d0%be%d0%bd%d0%b8%d1%82%d0%b5/
CATEGORIES:Делови форуми
ATTACH;FMTTYPE=image/jpeg:https://dobrich.bia-bg.com/wp-content/uploads/2019/05/BUSINESSREGIONS_-_baner_za_sait_-_1260x615px-1.jpg
END:VEVENT
BEGIN:VEVENT
DTSTART;VALUE=DATE:20190530
DTEND;VALUE=DATE:20190601
DTSTAMP:20260421T044613
CREATED:20251120T134502Z
LAST-MODIFIED:20251120T140038Z
UID:2725-1559174400-1559347199@dobrich.bia-bg.com
SUMMARY:HR конференция „Активиране на ресурсите на пазара на труда“ (Боровец)
DESCRIPTION:„Активиране на ресурсите на пазара на труда“ е основната тема на предстоящата международна HRконференция\, която Българска асоциация за управление на хора организира на 30 и 31 май в Боровец. \nВ програмата на събитието са включени лектори от различни индустрии\, които ще дадат отговор на няколко основни въпроса: промяната в HR функцията и новите роли на професионалистите в сферата\, съобразено с динамиката на бизнеса; новите канали за привличане на кандидати; кои са предизвикателствата\, пред които сме изправени една година след въвеждането на Регламента за защита на личните данни\, вкл. как да ги преодолеем; как да развиваме специалистите\, от които имаме нужда\, вътре в компанията и/или в партньорство с образователни институции; привличане на кандидати с позитивни фирмени практики и как да активираме нишовите резерви на пазара на труда. \nОсновни лектори на събитието са Том Хаак\, директор на HR Trend Institute; Иван Нейков\, Балкански институт за труда и социалната политика и доц. Ралица Ганева от СУ „Св. Климент Охридски“\, анализатор на пазара на труда и участник в проекта на МТСП за анализ на бъдещия пазар на труда в България към 2032 г. \nКрайният срок за ранни записвания е 10 май – подробности може да намерите ТУК.
URL:https://dobrich.bia-bg.com/event/hr-%d0%ba%d0%be%d0%bd%d1%84%d0%b5%d1%80%d0%b5%d0%bd%d1%86%d0%b8%d1%8f-%d0%b0%d0%ba%d1%82%d0%b8%d0%b2%d0%b8%d1%80%d0%b0%d0%bd%d0%b5-%d0%bd%d0%b0-%d1%80%d0%b5%d1%81%d1%83%d1%80%d1%81%d0%b8/
CATEGORIES:Делови форуми
ATTACH;FMTTYPE=image/jpeg:https://dobrich.bia-bg.com/wp-content/uploads/2019/05/BAPM_HR-Conference-May_2019.jpg
END:VEVENT
BEGIN:VEVENT
DTSTART;TZID=Europe/Sofia:20190522T100000
DTEND;TZID=Europe/Sofia:20190522T130000
DTSTAMP:20260421T044613
CREATED:20251120T134724Z
LAST-MODIFIED:20251120T154739Z
UID:2729-1558519200-1558530000@dobrich.bia-bg.com
SUMMARY:Форум „Взаимодействие между бизнеса и образованието в Област Добрич“
DESCRIPTION:Дискусионен форум\, посветен на взаимодействието между бизнеса и образованието на територията на Област Добрич\, ще се проведе на 22 май 2019 г.\, в сградата на Община Добрич\, от 10.00 до 12.30 часа. \nСъорганизатори на форума са Стопанска камара – Добрич и Община Добрич. \nЗа участие са поканени представители на фирми от региона\, ръководители на професионални гимназии и други образователни институции на територията на Област Добрич\, както и медии. \nФорумът ще бъде открит от кмета на Община Добрич Йордан Йорданов и председателя на Българската стопанска камара Радосвет Радев. \nСъбитието цели да предложи платформа за информационен обмен между държавните институции (МОН и местна власт)\, регионалния бизнес и образователните институции в региона (професионални и общообразователни гимназии)\, като представи настоящите базови проблеми и решения от гледна точка на трите страни в процеса. \nПредлагайки диференциран и подробен анализ на ситуацията\, форумът ще предложи идеи за: \n\nподобряване на комуникацията между трите звена;\nадаптация на образованието към нуждите на пазара на труда;\nпо-застъпена интеракция и интеграция на образованието със и в бизнеса;\nформулиране на по-ясни изисквания спрямо практическите умения и компетенции на учащите се;\nприоритизиране на дългосрочните цели\n\nУчастието във форума е безплатно\, но е необходима регистрация. \nЗа целта попълнете ФОРМАТА ЗА РЕГИСТРАЦИЯ до 21 май 2019 г. \nВижте събитието във  \nАудиоспот в Дарик радио – Добрич: \nhttps://dobrich.bia-bg.com/wp-content/uploads/2019/04/BSK-audio_Darik.mp3\n\nПрограма:\n10.00 ч.: Откриване (продължителност 15 минути) \n\nЙордан Йорданов – кмет на Община Добрич\nРадосвет Радев – председател на Българската стопанска камара\n\n10.15 ч.: Панел 1 – базовият проблем с кадрите (продължителност 20 минути) \nНационалната картина: Общи проблеми на пазара на труда\, свързани с уменията и компетенциите на работната сила (Къде са дефицитите на професионалното образование?). Лектор: Радосвет Радев – председател на БСК. \nРегионалната картина: Представяне на резултатите от анкетно проучване сред добричкия бизнес относно работната сила. Лектор: Николай Радев – председател на Стопанска камара – Добрич \n10.35 ч.: Панел 2 – примери от практиката (продължителност 60 минути) \n\nПредставяне на възможностите за дуално обучение по проект „Домино“. Лектор: Петя Евтимова – ръководител на проекта\n\n\nОпитът на Браншовата камара на дървообработващата и мебелната промишленост в областта на дуалното обучение. Лектори: Галин Господинов – председател на БКДМП\, и инж. Марияна  Дражева – директор на Професионална гимназия по механотехника и електротехника – гр. Добрич\n\n\nОпитът на „Албена“ АД в областта на дуалното обучение. Лектори: Красимир Станев – изп. директор на Албена АД\, и Нели Апостолова – директор на Професионална гимназия по туризъм – гр. Добрич\n\n\nОпитът на ПГКПИ – гр. Бургас. Лектор: Димитрина Тодорова – директор на гимназията\n\n11.35 ч.: Дискусия (продължителност 55-60 минути) \n12.30 ч.: Край на дискусията \n 
URL:https://dobrich.bia-bg.com/event/%d1%84%d0%be%d1%80%d1%83%d0%bc-%d0%b2%d0%b7%d0%b0%d0%b8%d0%bc%d0%be%d0%b4%d0%b5%d0%b9%d1%81%d1%82%d0%b2%d0%b8%d0%b5-%d0%bc%d0%b5%d0%b6%d0%b4%d1%83-%d0%b1%d0%b8%d0%b7%d0%bd%d0%b5%d1%81%d0%b0/
LOCATION:Община град Добрич\, бул. България 12\, Добрич\, Bulgaria
CATEGORIES:Делови форуми
ATTACH;FMTTYPE=image/png:https://dobrich.bia-bg.com/wp-content/uploads/2019/04/Форум-22май-визия.png
END:VEVENT
BEGIN:VEVENT
DTSTART;VALUE=DATE:20190508
DTEND;VALUE=DATE:20190509
DTSTAMP:20260421T044613
CREATED:20251120T134927Z
LAST-MODIFIED:20251120T154652Z
UID:2734-1557273600-1557359999@dobrich.bia-bg.com
SUMMARY:Делегация от руския град Тамбов ще посети Добрич
DESCRIPTION:Делегация от руския град Тамбов ще посети Добрич и ще се срещне с представители на добричкия бизнес и местната власт. Срещата ще се състои на 8 май 2019 г.\, от 15.00 часа\, в сградата на Община Добрич\, и в нея ще участват кметът на Община град Добрич Йордан Йорданов\, зам.-кметът „Финанси и общинска собственост“ Елка Димова\, Петър Енев – директор на дирекция „Икономическо развитие\, европейски фондове и обществени поръчки“\, Катя Алексиева – секретар на Стопанска камара – Добрич\, главният секретар на Търговско-промишлена палата Добрич – Герман Германов\, и представител на „Добрички панаири“. \nРуската делегация е в състав: \n\nАлексей Марковский – председател на комитета по инвестиции и стратегически проекти към администрацията на град Тамбов\nОлга Полетова – консултант в комитета по инвестиции и стратегически проекти към администрацията на град Тамбов\nАнна Курманова – председател на комитета по управление на общински имоти на град Тамбов\nВиктор Пчелинцев – генерален директор на ООО «РеАЛ»\nЛеван Кулалагашвили – зам.-генерален директор на ООО «РеАЛ»\nГайк Амбарцумян – старши мениджър по реклама в ООО «РеАЛ»\n\nОчаква се в срещата да се включи и бившият председател на ТПП-Тамбов\, който в момента живее в България. \nСрещата е с опознавателен характер и ще премине в свободна беседа между присъстващите\, а целта е да се потърсят възможности за икономическо сътрудничество между градовете Тамбов и Добрич. \nЗа контакт:\nВалентина Димитрова\nГлавен експерт „Международно сътрудничество и Протокол“\nОбщина град Добрич\n+359 58 600 416\n+359 894 62 80 90\nwww.dobrich.bg
URL:https://dobrich.bia-bg.com/event/%d0%b4%d0%b5%d0%bb%d0%b5%d0%b3%d0%b0%d1%86%d0%b8%d1%8f-%d0%be%d1%82-%d1%80%d1%83%d1%81%d0%ba%d0%b8%d1%8f-%d0%b3%d1%80%d0%b0%d0%b4-%d1%82%d0%b0%d0%bc%d0%b1%d0%be%d0%b2-%d1%89%d0%b5-%d0%bf%d0%be%d1%81/
LOCATION:Община град Добрич\, бул. България 12\, Добрич\, Bulgaria
CATEGORIES:Делови форуми
ATTACH;FMTTYPE=image/jpeg:https://dobrich.bia-bg.com/wp-content/uploads/2019/05/България-Русия1.jpg
END:VEVENT
END:VCALENDAR